BEGIN:VCALENDAR
VERSION:2.0
PRODID:-//VVAnatation - ECPv6.15.15//NONSGML v1.0//EN
CALSCALE:GREGORIAN
METHOD:PUBLISH
X-ORIGINAL-URL:https://vvanatation.fr
X-WR-CALDESC:Évènements pour VVAnatation
REFRESH-INTERVAL;VALUE=DURATION:PT1H
X-Robots-Tag:noindex
X-PUBLISHED-TTL:PT1H
BEGIN:VTIMEZONE
TZID:Europe/Paris
BEGIN:DAYLIGHT
TZOFFSETFROM:+0100
TZOFFSETTO:+0200
TZNAME:CEST
DTSTART:20240331T010000
END:DAYLIGHT
BEGIN:STANDARD
TZOFFSETFROM:+0200
TZOFFSETTO:+0100
TZNAME:CET
DTSTART:20241027T010000
END:STANDARD
BEGIN:DAYLIGHT
TZOFFSETFROM:+0100
TZOFFSETTO:+0200
TZNAME:CEST
DTSTART:20250330T010000
END:DAYLIGHT
BEGIN:STANDARD
TZOFFSETFROM:+0200
TZOFFSETTO:+0100
TZNAME:CET
DTSTART:20251026T010000
END:STANDARD
BEGIN:DAYLIGHT
TZOFFSETFROM:+0100
TZOFFSETTO:+0200
TZNAME:CEST
DTSTART:20260329T010000
END:DAYLIGHT
BEGIN:STANDARD
TZOFFSETFROM:+0200
TZOFFSETTO:+0100
TZNAME:CET
DTSTART:20261025T010000
END:STANDARD
END:VTIMEZONE
BEGIN:VEVENT
DTSTART;TZID=Europe/Paris:20250906T100000
DTEND;TZID=Europe/Paris:20250906T180000
DTSTAMP:20260420T005952
CREATED:20250831T104920Z
LAST-MODIFIED:20250831T112641Z
UID:980-1757152800-1757181600@vvanatation.fr
SUMMARY:FORUM DES ASSOCIATIONS
DESCRIPTION:Retrouvez nous le samedi 06 septembre 2025\, de 10h à 18h\, sur le forum des associations de Bellerive-sur-Allier \nVenez rencontrer notre équipe qui se tiendra à disposition pour répondre à vos questions. \nA samedi ! \nVVANATATION
URL:https://vvanatation.fr/event/forums-des-associations/
LOCATION:COSEC\, Rue Jean-Ferlot\, Bellerive-sur-allier\, 03700\, France
ATTACH;FMTTYPE=image/jpeg:https://vvanatation.fr/wp-content/uploads/2025/08/FORUM-DES-ASSOCIATIONS-BELLERIVE.jpg
END:VEVENT
BEGIN:VEVENT
DTSTART;TZID=Europe/Paris:20250906T100000
DTEND;TZID=Europe/Paris:20250906T180000
DTSTAMP:20260420T005952
CREATED:20250831T110432Z
LAST-MODIFIED:20250831T110432Z
UID:990-1757152800-1757181600@vvanatation.fr
SUMMARY:FORUM DES ASSOCIATIONS
DESCRIPTION:Retrouvez nous le samedi 06 septembre 2025\, de 10h à 18h\, sur le forum des associations de Vichy \nVenez rencontrer notre équipe qui se tiendra à disposition pour répondre à vos questions. \nA samedi ! \nVVANATATION
URL:https://vvanatation.fr/event/forum-des-associations/
LOCATION:Palais des congrès\, 5 rue du casino\, VICHY\, 03200\, France
ATTACH;FMTTYPE=image/jpeg:https://vvanatation.fr/wp-content/uploads/2025/08/FORUM-DES-ASSOCIATIONS.jpg
END:VEVENT
BEGIN:VEVENT
DTSTART;TZID=Europe/Paris:20250906T100000
DTEND;TZID=Europe/Paris:20250906T180000
DTSTAMP:20260420T005952
CREATED:20250831T111241Z
LAST-MODIFIED:20250831T111241Z
UID:994-1757152800-1757181600@vvanatation.fr
SUMMARY:FORUM DES ASSOCIATIONS
DESCRIPTION:Retrouvez nous le samedi 06 septembre 2025\, de 10h à 18h\, sur le forum des associations de Cusset \nVenez rencontrer notre équipe qui se tiendra à disposition pour répondre à vos questions. \nA samedi ! \nVVANATATION
URL:https://vvanatation.fr/event/forum-des-associations-2/
LOCATION:Complexe sportif des Darcins\, 42 Avenue de l'Europe\, CUSSET\, 03300\, France
ATTACH;FMTTYPE=image/jpeg:https://vvanatation.fr/wp-content/uploads/2025/08/FORUM-DES-ASSOCIATIONS-CUSSET.jpg
END:VEVENT
END:VCALENDAR