BEGIN:VCALENDAR
VERSION:2.0
PRODID:-//VVAnatation - ECPv6.15.15//NONSGML v1.0//EN
CALSCALE:GREGORIAN
METHOD:PUBLISH
X-ORIGINAL-URL:https://vvanatation.fr
X-WR-CALDESC:Évènements pour VVAnatation
REFRESH-INTERVAL;VALUE=DURATION:PT1H
X-Robots-Tag:noindex
X-PUBLISHED-TTL:PT1H
BEGIN:VTIMEZONE
TZID:Europe/Paris
BEGIN:DAYLIGHT
TZOFFSETFROM:+0100
TZOFFSETTO:+0200
TZNAME:CEST
DTSTART:20240331T010000
END:DAYLIGHT
BEGIN:STANDARD
TZOFFSETFROM:+0200
TZOFFSETTO:+0100
TZNAME:CET
DTSTART:20241027T010000
END:STANDARD
BEGIN:DAYLIGHT
TZOFFSETFROM:+0100
TZOFFSETTO:+0200
TZNAME:CEST
DTSTART:20250330T010000
END:DAYLIGHT
BEGIN:STANDARD
TZOFFSETFROM:+0200
TZOFFSETTO:+0100
TZNAME:CET
DTSTART:20251026T010000
END:STANDARD
BEGIN:DAYLIGHT
TZOFFSETFROM:+0100
TZOFFSETTO:+0200
TZNAME:CEST
DTSTART:20260329T010000
END:DAYLIGHT
BEGIN:STANDARD
TZOFFSETFROM:+0200
TZOFFSETTO:+0100
TZNAME:CET
DTSTART:20261025T010000
END:STANDARD
END:VTIMEZONE
BEGIN:VEVENT
DTSTART;TZID=Europe/Paris:20251017T193000
DTEND;TZID=Europe/Paris:20251017T220000
DTSTAMP:20260419T231133
CREATED:20250923T210655Z
LAST-MODIFIED:20250923T211015Z
UID:1227-1760729400-1760738400@vvanatation.fr
SUMMARY:ASSEMBLEE GENERALE VVA natation
DESCRIPTION:Vendredi 17 octobre 2025 : Nous vous donnons rendez-vous à 19h30\, à la salle Belle-Meunière du centre Eric-Tabarly\, pour assister à notre prochaine assemblée Générale. \nL’occasion pour nous de répondre à toutes vos questions\, de faire amplement connaissance\, et de partager le verre de l’amitié avec nos adhérents. \nA bientôt !
URL:https://vvanatation.fr/event/assemblee-generale-vva-natation/
LOCATION:Salle belle-Meunière\, centre Tabarly\, CUSSET\, 03300\, France
END:VEVENT
END:VCALENDAR