BEGIN:VCALENDAR
VERSION:2.0
PRODID:-//VVAnatation - ECPv6.15.15//NONSGML v1.0//EN
CALSCALE:GREGORIAN
METHOD:PUBLISH
X-ORIGINAL-URL:https://vvanatation.fr
X-WR-CALDESC:Évènements pour VVAnatation
REFRESH-INTERVAL;VALUE=DURATION:PT1H
X-Robots-Tag:noindex
X-PUBLISHED-TTL:PT1H
BEGIN:VTIMEZONE
TZID:Europe/Paris
BEGIN:DAYLIGHT
TZOFFSETFROM:+0100
TZOFFSETTO:+0200
TZNAME:CEST
DTSTART:20250330T010000
END:DAYLIGHT
BEGIN:STANDARD
TZOFFSETFROM:+0200
TZOFFSETTO:+0100
TZNAME:CET
DTSTART:20251026T010000
END:STANDARD
BEGIN:DAYLIGHT
TZOFFSETFROM:+0100
TZOFFSETTO:+0200
TZNAME:CEST
DTSTART:20260329T010000
END:DAYLIGHT
BEGIN:STANDARD
TZOFFSETFROM:+0200
TZOFFSETTO:+0100
TZNAME:CET
DTSTART:20261025T010000
END:STANDARD
BEGIN:DAYLIGHT
TZOFFSETFROM:+0100
TZOFFSETTO:+0200
TZNAME:CEST
DTSTART:20270328T010000
END:DAYLIGHT
BEGIN:STANDARD
TZOFFSETFROM:+0200
TZOFFSETTO:+0100
TZNAME:CET
DTSTART:20271031T010000
END:STANDARD
END:VTIMEZONE
BEGIN:VEVENT
DTSTART;TZID=Europe/Paris:20260131T190000
DTEND;TZID=Europe/Paris:20260201T000000
DTSTAMP:20260419T170819
CREATED:20260118T173056Z
LAST-MODIFIED:20260118T173056Z
UID:1419-1769886000-1769904000@vvanatation.fr
SUMMARY:REPAS VVA Natation
DESCRIPTION:
URL:https://vvanatation.fr/event/repas-vva-natation/
LOCATION:Cognat Lyonne\, salle des fêtes\, Cognat Lyonne\, 03\, France
ATTACH;FMTTYPE=image/jpeg:https://vvanatation.fr/wp-content/uploads/2026/01/WhatsApp-Image-2025-12-28-at-15.43.41.jpeg
ORGANIZER;CN="vva natation":MAILTO:vva.natation@orange.fr
END:VEVENT
END:VCALENDAR